BEGIN:VCALENDAR
VERSION:2.0
PRODID:-//Seniorenvereniging Sint Jozef - ECPv6.15.20//NONSGML v1.0//EN
CALSCALE:GREGORIAN
METHOD:PUBLISH
X-WR-CALNAME:Seniorenvereniging Sint Jozef
X-ORIGINAL-URL:https://seniorenverenigingsintjozef.nl
X-WR-CALDESC:Evenementen voor Seniorenvereniging Sint Jozef
REFRESH-INTERVAL;VALUE=DURATION:PT1H
X-Robots-Tag:noindex
X-PUBLISHED-TTL:PT1H
BEGIN:VTIMEZONE
TZID:UTC
BEGIN:STANDARD
TZOFFSETFROM:+0000
TZOFFSETTO:+0000
TZNAME:UTC
DTSTART:20230101T000000
END:STANDARD
END:VTIMEZONE
BEGIN:VEVENT
DTSTART;TZID=UTC:20260208T133000
DTEND;TZID=UTC:20260208T173000
DTSTAMP:20260425T031201
CREATED:20260122T175316Z
LAST-MODIFIED:20260122T175422Z
UID:12708-1770557400-1770571800@seniorenverenigingsintjozef.nl
SUMMARY:K'Narrenbal
DESCRIPTION: 
URL:https://seniorenverenigingsintjozef.nl/event/knarrenbal/
LOCATION:Partycentrum De Weesboom\, Voorstraat 17\, Ammerzoden
END:VEVENT
BEGIN:VEVENT
DTSTART;TZID=UTC:20260206T133000
DTEND;TZID=UTC:20260206T160000
DTSTAMP:20260425T031201
CREATED:20251119T094212Z
LAST-MODIFIED:20260107T130923Z
UID:12675-1770384600-1770393600@seniorenverenigingsintjozef.nl
SUMMARY:BINGO/KIENEN 6 FEBRUARI 2026
DESCRIPTION:We gaan weer gezellig naar de BINGO in D’n Dissel. \nEr worden 10 rondes gespeeld en een enkel boekje kost € 6\,70 inclusief een kopje koffie/thee. \nEen dubbel boekje kost € 9.70 inclusief kopje koffie/thee. \nWe beginnen om 13.30 uur. \nKom en doe mee\, iedereen is welkom\, ook uw buurman of buurvrouw\, dochter of kennis. \nJe hoeft hiervoor geen lid te zijn van onze vereniging.
URL:https://seniorenverenigingsintjozef.nl/event/bingo-kienen-5-december-2025/
LOCATION:D’n Dissel\, Voorstraat 17a\, Ammerzoden
END:VEVENT
BEGIN:VEVENT
DTSTART;TZID=UTC:20260121T183000
DTEND;TZID=UTC:20260121T213000
DTSTAMP:20260425T031201
CREATED:20250825T101253Z
LAST-MODIFIED:20250825T101253Z
UID:12628-1769020200-1769031000@seniorenverenigingsintjozef.nl
SUMMARY:4e bijeenkomst: Gemeente aan het woord - Een rondje door je woontoekomst
DESCRIPTION:Aanmelden: https://www.kbomaasdriel.nl/szaz/ \nWoensdag 21 januari 2026 – De Weesboom Ammerzoden \nZaal open 18.30 uur. \nAanvang 19.00 tot 21.30 uur
URL:https://seniorenverenigingsintjozef.nl/event/4e-bijeenkomst-gemeente-aan-het-woord-een-rondje-door-je-woontoekomst/
LOCATION:Partycentrum De Weesboom\, Voorstraat 17\, Ammerzoden
END:VEVENT
BEGIN:VEVENT
DTSTART;TZID=UTC:20260116T133000
DTEND;TZID=UTC:20260116T160000
DTSTAMP:20260425T031201
CREATED:20260107T131240Z
LAST-MODIFIED:20260107T131240Z
UID:12694-1768570200-1768579200@seniorenverenigingsintjozef.nl
SUMMARY:SJOELEN VRIJDAG 16 JANUARI 2026
DESCRIPTION:Op vrijdag 16 januari gaan we weer sjoelen. Kom zo vaak mogelijk want je punten worden \nbij elkaar opgeteld en de winnaar ontvangt weer een leuk prijsje. \nIedereen is welkom.
URL:https://seniorenverenigingsintjozef.nl/event/sjoelen-vrijdag-16-januari-2026/
END:VEVENT
BEGIN:VEVENT
DTSTART;TZID=UTC:20251128T200000
DTEND;TZID=UTC:20251128T200000
DTSTAMP:20260425T031201
CREATED:20251106T180802Z
LAST-MODIFIED:20251106T180853Z
UID:12668-1764360000-1764360000@seniorenverenigingsintjozef.nl
SUMMARY:Vinylavond in Café de Ster
DESCRIPTION:Vinylavond 28 november in Café de Ster. Aanvang 20.00 uur. \nAfscheid van een dorpscafé:\nCafé De Ster sluit op 1 januari 2026\nOp 1 januari komt er een einde aan een tijdperk: café de Ster in Ammerzoden. Na ruim 14 jaar de uitbating van het geliefde café\, hebben Bert\, Ferdie en Jolanda besloten te stoppen.\nMet heel veel liefde en plezier hebben we dit café geëxploiteerd zodat iedereen zich thuis kon voelen. Voor vele dorpelingen\, en in het bijzonder de oudere generatie\, is De Ster meer dan een café: een ontmoetingsplek\, een huiskamer\, een plek waar verhalen zijn gedeeld en herinneringen geboren. \nEen café met geschiedenis \nDe Ster was al vóór de komst van Bert\, Ferdie en Jolanda een begrip in het dorp. Gezelligheid was er altijd troef\, en dat gold zeker tijdens carnaval. Voor menig carnavalsvierder\, of je nu meeliep in de optocht of niet\, was het haast onmogelijk om\nDe Ster te passeren zonder even binnen te wippen. De sfeer\, de muziek\, de mensen: alles ademde feest en verbondenheid. \nEen waardig afscheid \nDat juist Seniorenvereniging Sint Jozef op vrijdag 28 november in de Ster hun “Vinylavond” organiseert\, is geen toeval. De trouwe bezoekers van De Ster zijn vaak van de generatie die nog weet hoe het voelt om te dansen op echte platen. Op vrijdag 28 november krijgen zij nog één keer de kans om in hun vertrouwde café te genieten van hun favoriete dansmuziek\, gedraaid door de Vinylboys Jos van Wordragen en Mark Westervoort\, omringd door bekenden en herinneringen.\nIedereen die De Ster een warm hart toedraagt is van harte welkom om deze bijzondere avond mee te beleven. Het belooft een sfeervol en nostalgisch afscheid te worden – een groet aan een café dat voor velen een tweede thuis was. \nOp zondag 4 januari 2026 is er vanaf 14.00 uur in Café de Ster “het laatste rondje”. Iedereen die café de Ster al die jaren een warm hart heeft toegedragen is welkom. \nVanaf deze plaats wenst Seniorenvereniging Sint Jozef Bert\, Ferdie en Jolanda veel succes met de voortzetting van hun andere activiteiten.
URL:https://seniorenverenigingsintjozef.nl/event/vinylavond-in-cafe-de-ster/
END:VEVENT
BEGIN:VEVENT
DTSTART;TZID=UTC:20251121T143000
DTEND;TZID=UTC:20251121T160000
DTSTAMP:20260425T031201
CREATED:20251119T093532Z
LAST-MODIFIED:20251119T093643Z
UID:12673-1763735400-1763740800@seniorenverenigingsintjozef.nl
SUMMARY:SJOELEN vrijdag 21 november 2025
DESCRIPTION:We gaan weer sjoelen op vrijdag 21 november. \nDe competitieperiode loopt van augustus tot juli 2026. \nOok niet leden zijn van harte welkom. \nTIP: kom zo vaak mogelijk\, dan heb je de meeste kansen. \n 
URL:https://seniorenverenigingsintjozef.nl/event/sjoelen-vrijdag-21-november-2025/
LOCATION:D’n Dissel\, Voorstraat 17a\, Ammerzoden
END:VEVENT
BEGIN:VEVENT
DTSTART;TZID=UTC:20251119T183000
DTEND;TZID=UTC:20251119T213000
DTSTAMP:20260425T031201
CREATED:20250825T101051Z
LAST-MODIFIED:20250825T101051Z
UID:12626-1763577000-1763587800@seniorenverenigingsintjozef.nl
SUMMARY:3e bijeenkomst: Zorg en welzijn - De toekomst van de zorg is thuis
DESCRIPTION:Aanmelden: https://www.kbomaasdriel.nl/szaz/ \nWoensdag 19 november 2025 – De Weesboom Ammerzoden \nZaal open 18.30 uur. \nAanvang 19.00 tot 21.30 uur
URL:https://seniorenverenigingsintjozef.nl/event/3e-bijeenkomst-zorg-en-welzijn-de-toekomst-van-de-zorg-is-thuis/
LOCATION:Partycentrum De Weesboom\, Voorstraat 17\, Ammerzoden
END:VEVENT
BEGIN:VEVENT
DTSTART;TZID=UTC:20251022T183000
DTEND;TZID=UTC:20251022T213000
DTSTAMP:20260425T031201
CREATED:20250825T100745Z
LAST-MODIFIED:20250825T100745Z
UID:12623-1761157800-1761168600@seniorenverenigingsintjozef.nl
SUMMARY:2e bijeenkomst: Wonen - Toekomstig wonen begint nu
DESCRIPTION:Aanmelden: https://www.kbomaasdriel.nl/szaz/ \nWoensdag 22 oktober 2025 – De Weesboom Ammerzoden \nZaal open 18.30 uur. \nAanvang 19.00 tot 21.30 uur
URL:https://seniorenverenigingsintjozef.nl/event/2e-bijeenkomst-wonen-toekomstig-wonen-begint-nu/
LOCATION:Partycentrum De Weesboom\, Voorstraat 17\, Ammerzoden
END:VEVENT
BEGIN:VEVENT
DTSTART;TZID=UTC:20250227T140000
DTEND;TZID=UTC:20250227T160000
DTSTAMP:20260425T031201
CREATED:20250227T054821Z
LAST-MODIFIED:20250227T055305Z
UID:12581-1740664800-1740672000@seniorenverenigingsintjozef.nl
SUMMARY:JAARVERGADERING 18 maart 2025
DESCRIPTION:Hierbij nodigen wij alle leden uit tot het bijwonen van de Jaarvergadering\, die gehouden zal worden op:\nDinsdag 18 maart a.s. in De Weesboom\, Ammerzoden. Aanvang 14.30 uur.\nDe Weesboom is open om 14.00 uur.\nVoorafgaand aan de vergadering zal er een eucharistieviering worden gehouden in D’n Dissel.\nAanvang 13.30 uur.\nWe beginnen voor de vergadering met een kopje koffie en iets lekkers. \nAgenda jaarvergadering 18 maart 2025
URL:https://seniorenverenigingsintjozef.nl/event/jaarvergadering-18-maart-2025/
LOCATION:Partycentrum De Weesboom\, Voorstraat 17\, Ammerzoden
END:VEVENT
BEGIN:VEVENT
DTSTART;TZID=UTC:20250223T133000
DTEND;TZID=UTC:20250223T173000
DTSTAMP:20260425T031201
CREATED:20250112T094440Z
LAST-MODIFIED:20250115T104032Z
UID:12551-1740317400-1740331800@seniorenverenigingsintjozef.nl
SUMMARY:K'Narrenbal 2025
DESCRIPTION:K’NARRENBAL 2025 – Het Feest voor de “Jonge Ouderen” \nHeb jij ook zo’n zin in een gezellig carnavalsfeest? Wij hebben weer alles uit de kast gehaald voor een spetterend K’NARRENBAL. Dit unieke bal voor de 50-plussers (leden én niet-leden) uit Ammerzoden en omgeving is een traditie die je niet wilt missen! \n  \nDatum: Zondag 23 februari 2025\nTijd: Aanvang 14.00 uur (de zaal is open vanaf 13.30 uur)\nLocatie: Partycentrum De Weesboom \nEntree: Slechts € 8\,- (inclusief 2 consumpties en een lekker hapje tussendoor) \n  \nWat kun je verwachten? \n\nArtiesten: We hebben gezorgd voor verrassende artiesten die je gegarandeerd laten genieten.\nMuzikale Gezelligheid: Muziek kapel “Ut Zooike” brengt de sfeer erin\, en de Disselzangers zorgen voor een dosis meezingers.\nGeheime Act: Wij hebben dit jaar een fantastische act voor je in petto – maar dit blijft nog even geheim!\nDe Prins en zijn Raad: Om 14.11 uur verwelkomen we Prins Gijs XVII en zijn Adjudant met de Raad van 11 en hun Hofkapel “De Dorstvlegels”.\nPrijs voor de Mooiste en Origineelste Karnavalvierder(s): De jury staat klaar om de beste kostuums te beoordelen!\n\n  \nAan het eind van de middag trakteert Hubert Molenschot van Partycentrum de Weesboom op een heerlijk broodje. En natuurlijk krijg je van Prins Gijs en de Raad van 11 nog een leuke attentie bij vertrek! \n  \nDus\, trek je mooiste kiel\, pak en pet aan en kom gezellig feesten! Het wordt een middag om niet te vergeten! \n  \nNamens het bestuur van Seniorenvereniging Sint Jozef\nJan Piels\, Veurzitter \n 
URL:https://seniorenverenigingsintjozef.nl/event/knarrenbal-2025/
LOCATION:Partycentrum De Weesboom\, Voorstraat 17\, Ammerzoden
END:VEVENT
BEGIN:VEVENT
DTSTART;TZID=UTC:20241129T133000
DTEND;TZID=UTC:20241129T160000
DTSTAMP:20260425T031201
CREATED:20241102T161436Z
LAST-MODIFIED:20241102T161436Z
UID:12529-1732887000-1732896000@seniorenverenigingsintjozef.nl
SUMMARY:Palliatieve zorg/ waakmand 29 november 2024
DESCRIPTION:Op vrijdag 29 november is er een middag voor u georganiseerd over palliatieve zorg. \nWat is dat precies\, welke rol speelt de thuiszorg daarin? \nSabine van Pelt van de VPTZ (Vrijwilligers Palliatieve Terminale Zorg) en Hannie Rademakers (werkzaam in de thuiszorg) gaan dat voor u uitleggen. \nDe tweede helft van de middag gaat over de Waakmand. \nWeet u wat dat is\, wie daarvoor zorgt en wie daarvoor in aanmerking komt? \nLeny Merks komt er alles over vertellen. \nWe hopen deze middag op een grote opkomst!!! Het zijn zeer interessante onderwerpen. \nAanvang half twee\, koffie en thee staan klaar. \n 
URL:https://seniorenverenigingsintjozef.nl/event/palliatieve-zorg-waakmand-29-november-2024/
LOCATION:D’n Dissel\, Voorstraat 17a\, Ammerzoden
END:VEVENT
BEGIN:VEVENT
DTSTART;TZID=UTC:20241108T200000
DTEND;TZID=UTC:20241108T235900
DTSTAMP:20260425T031201
CREATED:20241102T162758Z
LAST-MODIFIED:20241102T162758Z
UID:12537-1731096000-1731110340@seniorenverenigingsintjozef.nl
SUMMARY:VINYLAVOND IN D'N DISSEL 8 NOVEMBER 2024
DESCRIPTION:  \nVINYLAVOND in D’n Dissel \n  \nOp vrijdag 8 november wordt D’n Dissel weer omgetoverd tot een gezellige zaal waar Jos van Wordragen en Mark Westervoort plaatjes draaien.    \nZij doen dit van 20.00uur tot 24.00 uur. \nKom gezellig luisteren en vrienden ontmoeten. Er mag natuurlijk ook gedanst worden. \nWij hopen veel 50-plussers te mogen ontvangen. \nOok niet leden zijn van harte welkom dus breng gerust uw buurvrouw/man mee. \n 
URL:https://seniorenverenigingsintjozef.nl/event/vinylavond-in-dn-dissel-8-november-2024/
LOCATION:D’n Dissel\, Voorstraat 17a\, Ammerzoden
END:VEVENT
END:VCALENDAR